BEGIN:VCALENDAR
VERSION:2.0
PRODID:-//Plan B Media - ECPv6.15.17.1//NONSGML v1.0//EN
CALSCALE:GREGORIAN
METHOD:PUBLISH
X-WR-CALNAME:Plan B Media
X-ORIGINAL-URL:https://www.planbmedia.ca
X-WR-CALDESC:Events for Plan B Media
REFRESH-INTERVAL;VALUE=DURATION:PT1H
X-Robots-Tag:noindex
X-PUBLISHED-TTL:PT1H
BEGIN:VTIMEZONE
TZID:America/Toronto
BEGIN:DAYLIGHT
TZOFFSETFROM:-0500
TZOFFSETTO:-0400
TZNAME:EDT
DTSTART:20230312T070000
END:DAYLIGHT
BEGIN:STANDARD
TZOFFSETFROM:-0400
TZOFFSETTO:-0500
TZNAME:EST
DTSTART:20231105T060000
END:STANDARD
BEGIN:DAYLIGHT
TZOFFSETFROM:-0500
TZOFFSETTO:-0400
TZNAME:EDT
DTSTART:20240310T070000
END:DAYLIGHT
BEGIN:STANDARD
TZOFFSETFROM:-0400
TZOFFSETTO:-0500
TZNAME:EST
DTSTART:20241103T060000
END:STANDARD
BEGIN:DAYLIGHT
TZOFFSETFROM:-0500
TZOFFSETTO:-0400
TZNAME:EDT
DTSTART:20250309T070000
END:DAYLIGHT
BEGIN:STANDARD
TZOFFSETFROM:-0400
TZOFFSETTO:-0500
TZNAME:EST
DTSTART:20251102T060000
END:STANDARD
END:VTIMEZONE
BEGIN:VEVENT
DTSTART;TZID=America/Toronto:20240612T193000
DTEND;TZID=America/Toronto:20240612T210000
DTSTAMP:20260421T053103
CREATED:20240610T021718Z
LAST-MODIFIED:20240610T033455Z
UID:6628-1718220600-1718226000@www.planbmedia.ca
SUMMARY:Concerts in the Park
DESCRIPTION:Wednesday\, June 12: Taylor’s Story – Tribute to Taylor Swift at the Vaughan Metropolitan Centre\, Transit Square located at 100 New Park Place (Free Parking)
URL:https://www.planbmedia.ca/event/concerts-in-the-park/
LOCATION:Transit Square\, 100 New Park Place\, Vaughan\, Ontario\, Canada
CATEGORIES:Community
ATTACH;FMTTYPE=image/jpeg:https://www.planbmedia.ca/wp-content/uploads/2024/06/Screenshot_20240609_230752_Instagram.jpg
END:VEVENT
BEGIN:VEVENT
DTSTART;TZID=America/Toronto:20240617T190000
DTEND;TZID=America/Toronto:20240620T230000
DTSTAMP:20260421T053103
CREATED:20240610T025729Z
LAST-MODIFIED:20240610T031722Z
UID:6643-1718650800-1718924400@www.planbmedia.ca
SUMMARY:Vaughan International Film Festival
DESCRIPTION:VFF24 | June 17-20\, 2024\n \n\n\nThe Vaughan International Film Festivalis a unique event\, with a style all its own.\n\n\nThe Vaughan International Film Festival\, based in a neighbouring city of Toronto\, is a not-for-profit organization highly invested in securing the future of the short film industry. Through public film screenings\, scholarship opportunities as well as engaging and informative panels\, webinars and industry events\, VFF strives to support both experienced and aspiring filmmakers. \nNow in its 12th edition\, the festival continues to offer a platform for independent creators to share their films and further excel within the industry. Between the festival week\, promotional events and unique screenings\, filmmakers have the opportunity to reach an audience of over 20\,000 people. Submit your film today! \n\nstudent films\n\n\nMonday June 17 |int’l block 1\n\nthe studios at assembly park\n\n\n80 interchange way\, concord\nStudent Screening at The Studios at Assembly Park sponsored by Lumix and hosted by Michaelangelo Masangkay (President of Siné Film Fest and VFF24 International Judge) with a Student Networking event sponsored by Manfrotto. (SOLD OUT) \n\n\n\nTuesday June 18 |int’l block 2\n\nthe studios at assembly park\n\n\n80 interchange way\, concord\nInternational Screening Block 1 at The Studios at Assembly Park hosted by media producer and content creator Julia Suppa\, with an afterparty sponsored by Aloft at Chop Steakhouse & Bar. \n\n\n\nWednesday June 19 | int’l block 2\n\nthe studios at assembly park\n\n\n80 interchange way\, concord\nInternational Screening Block 2 at The Studios at Assembly Park hosted by media producer and content creator Julia Suppa\, with an afterparty sponsored by Sardo Foods at Chop Steakhouse & Bar \n\n\n\nThursday June 20 | awards night\n\nthe terrace event venue\n\n\n1680 creditstone rd.\, concord\nVFF Awards happening at the Terrace Event Venue will be hosted by lifestyle and entertainment host (CP24 and CTV) Nicole Servinis\, featuring a headlining performance by RocOpraNatra! This year’s Indie Leader recipient is Josh Zuckerman (Oppenheimer\, Austin Powers in Goldmember\, School Spirits)\, and the Sandra Piccolo Trailblazer recipient is Senior Vice President of Sony Pictures Entertainment\, Kimberly Jimenez! \n\nPrepare to be swept away on a journey through the dazzling world of international film as cinematic brilliance takes centre stage and we honour outstanding works of short film from across the globe. \nIndulge in an evening of glamour\, as the red carpet unfurls to welcome luminaries from the world of film\, entertainment\, and beyond. \nThe night promises an exquisite fusion of elegance and entertainment\, as we unveil the winners of this year’s VFF Awards. \n\n\n6:00 p.m. red carpet\n\n\n7:00 p.m. dinner\n\n\nawards show and afterparty to follow\n\n\nplease note VFF Awards dress code is black tie formal\n\n\n\n\n\n\n\n\n 
URL:https://www.planbmedia.ca/event/vaughan-international-film-festival-3/
LOCATION:Ontario
CATEGORIES:Community
ATTACH;FMTTYPE=image/jpeg:https://www.planbmedia.ca/wp-content/uploads/2024/06/435375771_791054069722263_3768278516579211596_n.jpg
END:VEVENT
BEGIN:VEVENT
DTSTART;TZID=America/Toronto:20240626T193000
DTEND;TZID=America/Toronto:20240626T210000
DTSTAMP:20260421T053103
CREATED:20240610T022230Z
LAST-MODIFIED:20240610T032833Z
UID:6633-1719430200-1719435600@www.planbmedia.ca
SUMMARY:Concerts in the Park Beatles Tribute
DESCRIPTION:Wednesday\, June 26 (Ward 5): The Beatle Band – Tribute to The Beatles at Dufferin District Park\, located at 1441 Clark Ave. W.\n\nPre-Concert Fun: \nExciting addition this year! We’re bringing extra pre-concert fun your way\, under the sun! Before the concert starts\, join us for a range of engaging activities like nature play and scavenger hunts. These will be offered in the overflow parking lots designated by our sustainability team. Here\, you can not only enjoy nature but also gather information about outdoor activities and sustainable transportation. Free parking is available at the locations listed below\, from where you can take a short walk to the concert site. Please note that the parking lot closes at 10 pm\, and all gates will be locked at that time. \nLocation: Hodan Nalayeh Secondary School Parking Lot\, 1401 Clark Ave W\, Thornhill\, ON L4J 7R4 \nActivities: After parking\, take a leisurely walk from the parking lot to the concert site. Along the way\, you’ll have the opportunity to explore nature and search for items listed on your scavenger hunt sheet.
URL:https://www.planbmedia.ca/event/concerts-in-the-park-beatles-tribute/
LOCATION:Dufferin District Park\, 1441 Clark Avenue West\, Vaughan\, Ontario\, Canada
CATEGORIES:Community
ATTACH;FMTTYPE=image/jpeg:https://www.planbmedia.ca/wp-content/uploads/2024/06/cityofvaughan.jpg
END:VEVENT
END:VCALENDAR