BEGIN:VCALENDAR
VERSION:2.0
PRODID:-//Plan B Media - ECPv6.15.17.1//NONSGML v1.0//EN
CALSCALE:GREGORIAN
METHOD:PUBLISH
X-WR-CALNAME:Plan B Media
X-ORIGINAL-URL:https://www.planbmedia.ca
X-WR-CALDESC:Events for Plan B Media
REFRESH-INTERVAL;VALUE=DURATION:PT1H
X-Robots-Tag:noindex
X-PUBLISHED-TTL:PT1H
BEGIN:VTIMEZONE
TZID:America/Toronto
BEGIN:DAYLIGHT
TZOFFSETFROM:-0500
TZOFFSETTO:-0400
TZNAME:EDT
DTSTART:20190310T070000
END:DAYLIGHT
BEGIN:STANDARD
TZOFFSETFROM:-0400
TZOFFSETTO:-0500
TZNAME:EST
DTSTART:20191103T060000
END:STANDARD
BEGIN:DAYLIGHT
TZOFFSETFROM:-0500
TZOFFSETTO:-0400
TZNAME:EDT
DTSTART:20200308T070000
END:DAYLIGHT
BEGIN:STANDARD
TZOFFSETFROM:-0400
TZOFFSETTO:-0500
TZNAME:EST
DTSTART:20201101T060000
END:STANDARD
BEGIN:DAYLIGHT
TZOFFSETFROM:-0500
TZOFFSETTO:-0400
TZNAME:EDT
DTSTART:20210314T070000
END:DAYLIGHT
BEGIN:STANDARD
TZOFFSETFROM:-0400
TZOFFSETTO:-0500
TZNAME:EST
DTSTART:20211107T060000
END:STANDARD
BEGIN:DAYLIGHT
TZOFFSETFROM:-0500
TZOFFSETTO:-0400
TZNAME:EDT
DTSTART:20220313T070000
END:DAYLIGHT
BEGIN:STANDARD
TZOFFSETFROM:-0400
TZOFFSETTO:-0500
TZNAME:EST
DTSTART:20221106T060000
END:STANDARD
BEGIN:DAYLIGHT
TZOFFSETFROM:-0500
TZOFFSETTO:-0400
TZNAME:EDT
DTSTART:20230312T070000
END:DAYLIGHT
BEGIN:STANDARD
TZOFFSETFROM:-0400
TZOFFSETTO:-0500
TZNAME:EST
DTSTART:20231105T060000
END:STANDARD
BEGIN:DAYLIGHT
TZOFFSETFROM:-0500
TZOFFSETTO:-0400
TZNAME:EDT
DTSTART:20240310T070000
END:DAYLIGHT
BEGIN:STANDARD
TZOFFSETFROM:-0400
TZOFFSETTO:-0500
TZNAME:EST
DTSTART:20241103T060000
END:STANDARD
END:VTIMEZONE
BEGIN:VEVENT
DTSTART;TZID=America/Toronto:20230619T180000
DTEND;TZID=America/Toronto:20230622T230000
DTSTAMP:20260420T114308
CREATED:20230619T201438Z
LAST-MODIFIED:20230619T202941Z
UID:6584-1687197600-1687474800@www.planbmedia.ca
SUMMARY:Vaughan International Film Festival
DESCRIPTION:The Vaughan International Film Festival\nJune 19 – 22\, 2023 \nThe Vaughan International Film Festival is a unique event\, with a style all its own. \nThe Vaughan International Film Festival\, based in a neighbouring city of Toronto\, is a not-for-profit organization highly invested in securing the future of the short film industry. Through public film screenings\, scholarship opportunities as well as engaging and informative panels\, webinars and industry events\, VFF strives to support both experienced and aspiring filmmakers. \nNow in its 11th edition\, the festival continues to offer a platform for independent creators to share their films and further excel within the industry. Between the festival week\, promotional events and unique screenings\, filmmakers have the opportunity to reach an audience of over 20\,000 people. Submit your film today! \na multi-day eventcelebrating canadian & international filmmaking\nCLICK HERE for the 2023 Film Schedule \n\nDay 1: Monday June 19th ’23\nStudent Screeningshowcasing Ontario high school short films\n\n\nDay 2: Tuesday June 20th ’23\nInternational Screening · Block 1showcasing international short films\n\nDay 3: Wednesday June 21st ’23\nInternational Screening · Block 2showcasing international short films\n\n\n\nDay 4: Thursday June 22nd ’23\n\n\n\nVFF AwardsThursday June 22\, 2023 The Terrace Banquet Centre\n\n\nCelebrating the best in short films! \nThe festival will culminate with the VFF Awards taking place on the final night. VFF is ecstatic to return to the always-elegant Terrace Banquet Centre for this black-tie\, red-carpet event! Guests will be treated with a musical performance and a delectable four-course meal\, all while connecting with industry leaders and VFF’s supporting partners. And for the main highlight of the night\, VFF will hand out their Individual Achievement Awards and present the winners of their film awards. \n\nJoin us as we celebrate this year’s Indie Leader Laura Vandervoort and Trailblazer Mark Lanza \n \nDetails and Tickets – CLICK HERE
URL:https://www.planbmedia.ca/event/vaughan-international-film-festival-2/
LOCATION:Ontario
CATEGORIES:Community
ATTACH;FMTTYPE=image/jpeg:https://www.planbmedia.ca/wp-content/uploads/2023/06/Screenshot_20230619_155830_Instagram.jpg
END:VEVENT
BEGIN:VEVENT
DTSTART;TZID=America/Toronto:20230615T193000
DTEND;TZID=America/Toronto:20230615T210000
DTSTAMP:20260420T114308
CREATED:20230529T042049Z
LAST-MODIFIED:20230529T042049Z
UID:6580-1686857400-1686862800@www.planbmedia.ca
SUMMARY:Vaughan Speed Dating
DESCRIPTION:Mingle with several\, mesh with many! Single in the City speed dating events provide a platform for singles to explore new connections and new friendships with likeminded professionals. \nBring a friend and receive 15% on orders of 2 or more tickets! \nINCLUSIONS:\n* Up to 15 dates\n* Appetizers\n* A great evening out! \nLOCATION: \nAllStar Wings & Ribs (3130 Rutherford Rd\, Vaughan\, ON L4K 0B1)
URL:https://www.planbmedia.ca/event/vaughan-speed-dating-2/
LOCATION:AllStar Wings & Ribs\, 3130 Rutherford Road\, Woodbridge\, Ontario\, L4K 0B1\, Canada
CATEGORIES:Speed Dating
ATTACH;FMTTYPE=image/jpeg:https://www.planbmedia.ca/wp-content/uploads/2023/05/June-15-2023.jpg
END:VEVENT
BEGIN:VEVENT
DTSTART;TZID=America/Toronto:20230614T193000
DTEND;TZID=America/Toronto:20230614T210000
DTSTAMP:20260420T114308
CREATED:20230529T033206Z
LAST-MODIFIED:20230529T040806Z
UID:6553-1686771000-1686776400@www.planbmedia.ca
SUMMARY:Vaughan Celebrates Concerts in the Park
DESCRIPTION:You’re invited to attend these FREE events on select Wednesdays from June to August all summer long. \nLaunch Concert Featuring Shawn DesmanPlatinum selling singer/songwriter and JUNO Award WinnerJune 14\, 2023 at 7:30pmTransit Square\, Vaughan Metropolitan Centre100 New Park Place\, Vaughan \nFor more details\, CLICK HERE
URL:https://www.planbmedia.ca/event/vaughan-celebrates-concerts-in-the-park/
LOCATION:Vaughan Metropolitan Centre\, 100 New Park Place\, Vaughan\, Ontario\, Canada
CATEGORIES:Community
ATTACH;FMTTYPE=image/jpeg:https://www.planbmedia.ca/wp-content/uploads/2023/05/2023-Concerts_IG__JUN-14.jpg
END:VEVENT
BEGIN:VEVENT
DTSTART;TZID=America/Toronto:20230525T193000
DTEND;TZID=America/Toronto:20230525T210000
DTSTAMP:20260420T114308
CREATED:20230520T034041Z
LAST-MODIFIED:20230520T034453Z
UID:6545-1685043000-1685048400@www.planbmedia.ca
SUMMARY:Vaughan Speed Dating
DESCRIPTION:
URL:https://www.planbmedia.ca/event/speed-dating/
LOCATION:AllStar Wings & Ribs\, 3130 Rutherford Road\, Woodbridge\, Ontario\, L4K 0B1\, Canada
CATEGORIES:Speed Dating
ATTACH;FMTTYPE=image/jpeg:https://www.planbmedia.ca/wp-content/uploads/2023/05/May-25-Speed-Dating-Vaughan-2023-1.jpg
END:VEVENT
BEGIN:VEVENT
DTSTART;TZID=America/Toronto:20230524T193000
DTEND;TZID=America/Toronto:20230524T210000
DTSTAMP:20260420T114308
CREATED:20230520T033819Z
LAST-MODIFIED:20230520T034538Z
UID:6541-1684956600-1684962000@www.planbmedia.ca
SUMMARY:Vaughan Speed Dating
DESCRIPTION:
URL:https://www.planbmedia.ca/event/vaughan-speed-dating/
LOCATION:AllStar Wings & Ribs\, 3130 Rutherford Road\, Woodbridge\, Ontario\, L4K 0B1\, Canada
CATEGORIES:Speed Dating
ATTACH;FMTTYPE=image/jpeg:https://www.planbmedia.ca/wp-content/uploads/2023/05/May-24-Speed-Dating-Vaughan-2023.jpg
END:VEVENT
BEGIN:VEVENT
DTSTART;TZID=America/Toronto:20230516T190000
DTEND;TZID=America/Toronto:20230516T200000
DTSTAMP:20260420T114308
CREATED:20230307T203606Z
LAST-MODIFIED:20230307T203706Z
UID:6534-1684263600-1684267200@www.planbmedia.ca
SUMMARY:VFF'23 Spring Launch
DESCRIPTION:The Vaughan International Film Festival\, based in a neighbouring city of Toronto\, is a not-for-profit organization highly invested in securing the future of the short film industry. Through public film screenings\, scholarship opportunities as well as engaging and informative panels\, webinars and industry events\, VFF strives to support both experienced and aspiring filmmakers. \nThe festival continues to offer a platform for independent creators to share their films and further excel within the industry. Between the festival week\, promotional events and unique screenings\, filmmakers have the opportunity to reach an audience of over 19\,000 people. Submit your film today! \nJune 19-22\, 2023
URL:https://www.planbmedia.ca/event/vff23-spring-launch/
LOCATION:Ontario
CATEGORIES:Community
ATTACH;FMTTYPE=image/jpeg:https://www.planbmedia.ca/wp-content/uploads/2023/03/333809999_604365501534936_8583210432360378657_n-1.jpg
END:VEVENT
BEGIN:VEVENT
DTSTART;TZID=America/Toronto:20230309T110000
DTEND;TZID=America/Toronto:20230309T120000
DTSTAMP:20260420T114308
CREATED:20230307T202741Z
LAST-MODIFIED:20230307T203241Z
UID:6525-1678359600-1678363200@www.planbmedia.ca
SUMMARY:VFF Press Conference
DESCRIPTION:Press Conference: VFF ’23 Film Lineup & Exclusive Unveiling  \nJoin the Vaughan International Film Festival on March 9th as they announce this year’s lineup of student and international films.\n*VFF will also be presenting an EXCLUSIVE UNVEILING.* with Nicole Servinis \n \nLocation: Terrace Banquet Centre\nCheck-In: 10am\nPress Conference: 11am-12pm
URL:https://www.planbmedia.ca/event/vff-press-conference/
LOCATION:Ontario
CATEGORIES:Community
ATTACH;FMTTYPE=image/jpeg:https://www.planbmedia.ca/wp-content/uploads/2023/03/333809999_604365501534936_8583210432360378657_n.jpg
END:VEVENT
BEGIN:VEVENT
DTSTART;TZID=America/Toronto:20230205T100000
DTEND;TZID=America/Toronto:20230205T153000
DTSTAMP:20260420T114308
CREATED:20230203T224844Z
LAST-MODIFIED:20230203T225017Z
UID:6519-1675591200-1675611000@www.planbmedia.ca
SUMMARY:VAUGHAN CELEBRATES WINTERFEST
DESCRIPTION:Winterfest is back in-person this year! Join us on Sunday\, February 5 from 10:00am to 3:30pm at Vellore Village Community Centre for exciting entertainment and fun activities for the whole family to enjoy. \nStage Entertainment: \nKreative In Dance Styles (K.I.D.S)\nGreat Canadian Lumberjacks\nTEAM T&J\nLeave Those Kids Alone\nFabulous Feud \nIndoor and Outdoor Activities: \nAirbrush & Glitter Tattoos                     Recreation Services Mini Classes \nArts & Crafts                                              Snowshoeing \nChess Drop-In                                           Tween Spa \nCN Little Obie Train                                Vaughan Fire & Rescue Service \nEarth Rangers                                           Vaughan Public Libraries \nEngineering for Kids \nHorse-Drawn Wagon Rides                        Midway Rides \nIce Throne \nLEGO & EverBlock Building Station          Food Zone \nLife Size Games                                               Food available for purchase \nMad Science Fun Station \nMaple Taffy Station                                      FREE Pancake Breakfast \nOutdoor Fire Pits                                          10-11am \nOutdoor Skating \nPhotobooth                                                 Recreational Swim (1-3pm) \nMeet & Greet \nBluey\n11:00am to 11:30am\n12:30pm to 1:00pm\nOutdoor tent
URL:https://www.planbmedia.ca/event/vaughan-celebrates-winterfest-2/
LOCATION:Ontario
CATEGORIES:Community
ATTACH;FMTTYPE=image/jpeg:https://www.planbmedia.ca/wp-content/uploads/2023/02/2023-Winterfest_IG_Generic.jpg
END:VEVENT
BEGIN:VEVENT
DTSTART;TZID=America/Toronto:20221021T180000
DTEND;TZID=America/Toronto:20221022T010000
DTSTAMP:20260420T114308
CREATED:20220616T030555Z
LAST-MODIFIED:20220616T030829Z
UID:6480-1666375200-1666400400@www.planbmedia.ca
SUMMARY:Blue Jeans & Cocktails
DESCRIPTION:Brighter Path 4 Autism presents the first of its kind inaugural Blue Jeans & Cocktails fundraiser.\nGuests will be treated to an evening of gourmet hors d’oeuvres\, sit down dinner\, dessert\, late night food stations\, open bar\, dj dancing and much more with our special guest host\, Giuseppe the MC. \n​​All decked out in blue from the décor to the backdrop\, a truly fun in blue evening is in store\, so do wear your blue jeans! \nBlue Jeans & Cocktails is a ticketed event supporting the registered charity\, Brighter Path 4 Autism. The event will directly support families and their children who attend The Village in Maple\, Ontario. \nSponsor | Donate | Partner | Get Involved
URL:https://www.planbmedia.ca/event/blue-jeans-cocktails-2/
LOCATION:Bellagio Boutique Event Venue\, 8540 Jane Street\, Vaughan\, Ontario\, L4K 5A9\, Canada
CATEGORIES:Charity
ATTACH;FMTTYPE=image/png:https://www.planbmedia.ca/wp-content/uploads/2022/06/BlueJeansandCocoktails-2022-logo-web-e1655348899664.png
END:VEVENT
BEGIN:VEVENT
DTSTART;TZID=America/Toronto:20220925T110000
DTEND;TZID=America/Toronto:20220925T170000
DTSTAMP:20260420T114308
CREATED:20220616T025815Z
LAST-MODIFIED:20220616T035635Z
UID:6475-1664103600-1664125200@www.planbmedia.ca
SUMMARY:10th Annual ABC Pink Diamond Gala
DESCRIPTION:Save the Date for the 10th Edition of the Pink Diamond Gala in support of after BREAST CANCER
URL:https://www.planbmedia.ca/event/10th-annual-abc-pink-diamond-gala/
LOCATION:Liberty Grand\, 25 British Columbia Rd. (Exhibition Place)\, Toronto\, Ontario\, M6K 3C3\, Canada
CATEGORIES:Charity
ATTACH;FMTTYPE=image/jpeg:https://www.planbmedia.ca/wp-content/uploads/2022/06/ABC-logo.jpg
END:VEVENT
BEGIN:VEVENT
DTSTART;TZID=America/Toronto:20220909T100000
DTEND;TZID=America/Toronto:20220925T160000
DTSTAMP:20260420T114308
CREATED:20220616T042437Z
LAST-MODIFIED:20220616T210002Z
UID:6501-1662717600-1664121600@www.planbmedia.ca
SUMMARY:ICCO Canada  Cut & Share In-store Tasting Events
DESCRIPTION:Taste the extraordinary flavours of Prosciutto Toscano DOP and Pecorino Toscano DOP at in-store promotions.\nCut & Share is an information and awareness-raising campaign on European products with Designation of Origin: Pecorino Toscano DOP and Prosciutto Toscano DOP. \n \nEnjoy complimentary tastings: \n\nSeptember 9-10-11\nSeptember 23-24-25\n\nLocation \nLady York Foods\, 2939 Dufferin St\, North York\, ON \nTime \n10:00am – 4:00pm \n 
URL:https://www.planbmedia.ca/event/icco-canada-demo-events/
LOCATION:Lady York Foods\, 2939 Dufferin Street\, North York\, Ontario\, M6B 3S7\, Canada
CATEGORIES:Demo Events
ATTACH;FMTTYPE=image/png:https://www.planbmedia.ca/wp-content/uploads/2022/06/90442013_109981700637152_81114559078727680_n-e1655409821766.png
END:VEVENT
BEGIN:VEVENT
DTSTART;TZID=America/Toronto:20220709T090000
DTEND;TZID=America/Toronto:20220709T190000
DTSTAMP:20260420T114308
CREATED:20220616T034857Z
LAST-MODIFIED:20220616T035459Z
UID:6489-1657357200-1657393200@www.planbmedia.ca
SUMMARY:JCCO 1st Annual Celebration of Life
DESCRIPTION:About Jaylon Craig\n\nCRAIG\, Jaylon – Passed away unexpectedly due to an accident with drowning on Sunday June 27\, 2021 at the age of 17\, Beloved son of Jimmy and Sonia Craig. Loving brother of Yonnell (Tyrone) Craig-Adams\, James Craig Jr.\, Akeam Craig and Khalia Craig. Caring uncle to Shayanne\, Shariah\, Tyrell\, Jahmel and Elijah. \n\n \nFamily fun day in the Fireman’s Park\n2377 Dorchester Rd\, Niagara Falls\,\n\nOntario L2E 6S4\n\nEvent Timing: 9.00am To 7.00pm\n\nFor The Betterment Of The Community\nWe Believe In Doing Good Through Charity\n\nWe organize fundraising programs and accept donations for needy people. \nJaylon Craig Charity Organization believes in good causes with the goal of supporting people & strengthening the community. \n\n 
URL:https://www.planbmedia.ca/event/jcco-1st-annual-celebration-of-life/
LOCATION:Ontario
CATEGORIES:Charity,Community
END:VEVENT
BEGIN:VEVENT
DTSTART;TZID=America/Toronto:20220708T100000
DTEND;TZID=America/Toronto:20220724T160000
DTSTAMP:20260420T114308
CREATED:20220616T042009Z
LAST-MODIFIED:20220616T210032Z
UID:6496-1657274400-1658678400@www.planbmedia.ca
SUMMARY:ICCO Canada Cut & Share In-Store Tasting Events
DESCRIPTION:Taste the extraordinary flavours of Prosciutto Toscano DOP and Pecorino Toscano DOP at in-store promotions.\nCut & Share is an information and awareness-raising campaign on European products with Designation of Origin: Pecorino Toscano DOP and Prosciutto Toscano DOP. \n \nEnjoy complimentary tastings: \n\nJuly 8-9-10\nJuly 22-23-24\n\nLocation \nLady York Foods\, 2939 Dufferin St\, North York\, ON \nTime \n10:00am – 4:00pm
URL:https://www.planbmedia.ca/event/icco-canada-demo-event/
LOCATION:Lady York Foods\, 2939 Dufferin Street\, North York\, Ontario\, M6B 3S7\, Canada
CATEGORIES:Demo Events
ATTACH;FMTTYPE=image/png:https://www.planbmedia.ca/wp-content/uploads/2022/06/90442013_109981700637152_81114559078727680_n-e1655409821766.png
END:VEVENT
BEGIN:VEVENT
DTSTART;TZID=America/Toronto:20220630T150000
DTEND;TZID=America/Toronto:20220630T190000
DTSTAMP:20260420T114308
CREATED:20220616T031936Z
LAST-MODIFIED:20220616T032032Z
UID:6487-1656601200-1656615600@www.planbmedia.ca
SUMMARY:Cut & Share Demo Event
DESCRIPTION:Enjoy complimentary samples \nDate\nThursday\, June 30\, 2022 \nTime\n3pm-7pm \nLocation\nEataly Toronto\nManulife Centre\, 55 Bloor St W\, Toronto\, ON M4W 1A6
URL:https://www.planbmedia.ca/event/cut-share-demo-event-2/
LOCATION:Ontario
END:VEVENT
BEGIN:VEVENT
DTSTART;TZID=America/Toronto:20220626T120000
DTEND;TZID=America/Toronto:20220626T160000
DTSTAMP:20260420T114308
CREATED:20220616T031737Z
LAST-MODIFIED:20220616T031737Z
UID:6484-1656244800-1656259200@www.planbmedia.ca
SUMMARY:Cut & Share Demo Event
DESCRIPTION:Enjoy complimentary samples \nDate\nSunday\, June 26\, 2022 \nTime\n12pm-4pm \nLocation\nEataly Toronto\nManulife Centre\, 55 Bloor St W\, Toronto\, ON M4W 1A6
URL:https://www.planbmedia.ca/event/cut-share-demo-event/
LOCATION:Ontario
END:VEVENT
BEGIN:VEVENT
DTSTART;TZID=America/Toronto:20220620T190000
DTEND;TZID=America/Toronto:20220623T230000
DTSTAMP:20260420T114308
CREATED:20220614T225824Z
LAST-MODIFIED:20220614T230128Z
UID:6461-1655751600-1656025200@www.planbmedia.ca
SUMMARY:Vaughan International Film Festival
DESCRIPTION:10th Annual VFF \nA multi-day event celebrating canadian & international filmmaking.\n\nDay 1 – Monday\, June 20 \nInternational Screenings · Block 1\nshowcasing international short films\n7:00pm\nCineplex Vaughan Cinemas\, 3555 Hwy 7\, Vaughan \n\n\nAfterparty\n9:00pm\nChop Steakhouse & Bar\, 41 Colossus Dr\, Vaughan \n\nDay 2 – Tuesday\, June 21 \n\nStudent Screenings\nshowcasing Ontario high school short films \n\n\n7:00pm\nYCDSB Centre for the Arts\, 525 New Westminster Dr\, Vaughan \n\n\n\nNetworking Event\n9:00pm\nYCDSB Centre for the Arts\, 525 New Westminster Dr\, Vaughan \nDay 3 – Wednesday\, June 22 \n\n\nInternational Screenings · Block 2\nshowcasing international short films \n\n\n7:00pm\nCineplex Vaughan Cinemas\, 3555 Hwy 7\, Vaughan \n\n\nAfterparty\n9:00pm\nChop Steakhouse & Bar\, 41 Colossus Dr\, Vaughan \nDay 4 – Thursday\, June 23  \n\nVFF Awards Night\ncelebrating international short films \n\n\n6:00pm\nThe Terrace Banquet Centre\, 1680 Creditstone Rd\, Vaughan \n\n\nAfterparty\n10:00pm\nThe Terrace Banquet Centre\, 1680 Creditstone Rd\, Vaughan
URL:https://www.planbmedia.ca/event/vaughan-international-film-festival/
LOCATION:Ontario
CATEGORIES:Community
ATTACH;FMTTYPE=image/webp:https://www.planbmedia.ca/wp-content/uploads/2022/06/8b7633_88ac121adce44f9e84e7a7688c0be539f000.webp
END:VEVENT
BEGIN:VEVENT
DTSTART;TZID=America/Toronto:20220617T170000
DTEND;TZID=America/Toronto:20220619T170000
DTSTAMP:20260420T114308
CREATED:20220615T213446Z
LAST-MODIFIED:20220616T025218Z
UID:6465-1655485200-1655658000@www.planbmedia.ca
SUMMARY:The Vaughan Pizzafest
DESCRIPTION:THE VAUGHAN PIZZAFEST\nNORTH AMERICA’S LARGEST PIZZA FESTIVAL!\nJune 17th-19th.\n\n\nImprove Canada.\nPizza. Pasta. Desserts.\nShop Local\n \n\nFRIDAY\nDoors 5pm\n7:00 Ida-Marie\n7:35 – Lu Sicilianu Raggiatu\n8:20 – Roberta Battaglia\n9:00 – Joe Avati\nSATURDAY\nDoors 12pm\n1pm – The Best of Disney ft. Laura Cavacece\n2:15pm – Adassa\n3:15 – Encanto Dance Presented by Rugcutterz Danz Artz\nSATURDAY – Evening\n5pm – Rockwell Revival\n7:30  – Lu Sicilianu Raggiatu\n8pm – Roberta Battaglia\n8:30  – Nicolina\n9:00 – Joe Avati\nSUNDAY\nDoors 12pm\n\n\n12pm – Iron Man\n12:30pm –  Music by Matt & Sarah\n1pm – Spider Man\n1:30pm Destiny Wrestling Ft Santino & Jonathan Gresham\n3pm – Batman & Scarlet Witch\n3:15pm – Music by Matt and Sarah
URL:https://www.planbmedia.ca/event/the-vaughan-pizzafest/
LOCATION:Improve Canada\, 7250 Keele Street\, Vaughan\, Ontario\, L4K 1Z8\, Canada
CATEGORIES:Community
ATTACH;FMTTYPE=image/png:https://www.planbmedia.ca/wp-content/uploads/2022/06/pizzafest.png
END:VEVENT
BEGIN:VEVENT
DTSTART;TZID=America/Toronto:20201125T080000
DTEND;TZID=America/Toronto:20201125T150000
DTSTAMP:20260420T114308
CREATED:20200519T054401Z
LAST-MODIFIED:20200519T054401Z
UID:6209-1606291200-1606316400@www.planbmedia.ca
SUMMARY:Women to Women Symposium
DESCRIPTION:The Vaughan Chamber of Commerce presents the annual Women to Women Symposium \nDate: Wednesday\, November 25th\, 2020 \n*More information coming soon
URL:https://www.planbmedia.ca/event/women-to-women-symposium/
LOCATION:Ontario
END:VEVENT
BEGIN:VEVENT
DTSTART;TZID=America/Toronto:20200926T100000
DTEND;TZID=America/Toronto:20200926T160000
DTSTAMP:20260420T114308
CREATED:20200723T044537Z
LAST-MODIFIED:20200723T044537Z
UID:6399-1601114400-1601136000@www.planbmedia.ca
SUMMARY:Mind\, Body & Soul Virtual Retreat
DESCRIPTION:
URL:https://www.planbmedia.ca/event/mind-body-soul-virtual-retreat/
LOCATION:Ontario
ORGANIZER;CN="Health Care Event Planning":MAILTO:malak@healthcareeventplanning.com
END:VEVENT
BEGIN:VEVENT
DTSTART;TZID=America/Toronto:20200924T180000
DTEND;TZID=America/Toronto:20200924T220000
DTSTAMP:20260420T114308
CREATED:20200519T053919Z
LAST-MODIFIED:20200519T053919Z
UID:6206-1600970400-1600984800@www.planbmedia.ca
SUMMARY:Business Achievement Awards
DESCRIPTION:The Vaughan Chamber of Commerce presents the annual Business Achievement Awards. \nDate: Thursday\, September 24th\, 2020 \nTime: 5:30 pm \nLocation: Universal Eventspace
URL:https://www.planbmedia.ca/event/business-achievement-awards/
LOCATION:Ontario
END:VEVENT
BEGIN:VEVENT
DTSTART;TZID=America/Toronto:20200805T163000
DTEND;TZID=America/Toronto:20200805T180000
DTSTAMP:20260420T114308
CREATED:20200723T040932Z
LAST-MODIFIED:20200723T041304Z
UID:6386-1596645000-1596650400@www.planbmedia.ca
SUMMARY:Annual General Meeting and Networking
DESCRIPTION:Wednesday\, August 05\, 2020 4:30 PM – 6:00 PM\n\n\nYou must register to receive the Zoom link.
URL:https://www.planbmedia.ca/event/annual-general-meeting-and-networking/
LOCATION:Ontario
END:VEVENT
BEGIN:VEVENT
DTSTART;TZID=America/Toronto:20200724T113000
DTEND;TZID=America/Toronto:20200822T150000
DTSTAMP:20260420T114308
CREATED:20200723T042038Z
LAST-MODIFIED:20200723T042038Z
UID:6389-1595590200-1598108400@www.planbmedia.ca
SUMMARY:Il Porcellino Pizza Party Fundraiser
DESCRIPTION:Every Friday this summer\, enjoy a pizza pie & pop for $20\n$5 from every pie goes to The Mississauga Food Bank
URL:https://www.planbmedia.ca/event/il-porcellino-pizza-party-fundraiser/
LOCATION:Ontario
ORGANIZER;CN="Il Porcellino":MAILTO:service@ilporcellino.com
END:VEVENT
BEGIN:VEVENT
DTSTART;TZID=America/Toronto:20200520T100000
DTEND;TZID=America/Toronto:20200520T110000
DTSTAMP:20260420T114308
CREATED:20200519T054742Z
LAST-MODIFIED:20200519T054910Z
UID:6212-1589968800-1589972400@www.planbmedia.ca
SUMMARY:How to Navigate your Brand in Troubling Times
DESCRIPTION:Live on YouTube
URL:https://www.planbmedia.ca/event/how-to-navigate-your-brand-in-troubling-times/
LOCATION:Ontario
END:VEVENT
BEGIN:VEVENT
DTSTART;TZID=America/Toronto:20200417T180000
DTEND;TZID=America/Toronto:20200418T000000
DTSTAMP:20260420T114308
CREATED:20200211T041705Z
LAST-MODIFIED:20200211T041705Z
UID:6104-1587146400-1587168000@www.planbmedia.ca
SUMMARY:Blue Jeans & Cocktails
DESCRIPTION:Brighter Path 4 Autism presents the first of its kind inaugural Blue Jeans & Cocktails charity fundraiser. The event will set the stage in blue at The Vue Event Venue on Friday\, April 17\, 2020 from 6:00pm to 12:00am. Guests will be treated to an evening of live music\, Superior DJ’s\, Antipasto Bar and full Gourmet Food Stations\, Dessert Bar\, Open Bar Refreshments\, prizes and much more with our special guest host\, Giuseppe the MC. \nAll decked out in blue from the décor to the backdrop\, a truly fun in blue evening is in store\, so do wear your blue jeans! Blue Jeans & Cocktails is a ticketed event supporting Brighter Path 4 Autism. The event will directly support families and their children who attend ATT Kids. \nJoin the path to a brighter path\, more info and tickets here
URL:https://www.planbmedia.ca/event/blue-jeans-cocktails/
LOCATION:Ontario
ATTACH;FMTTYPE=image/jpeg:https://www.planbmedia.ca/wp-content/uploads/2020/02/BlueJeansCocktails-SavetheDate-JPG.jpg
END:VEVENT
BEGIN:VEVENT
DTSTART;TZID=America/Toronto:20200417T173000
DTEND;TZID=America/Toronto:20200417T203000
DTSTAMP:20260420T114308
CREATED:20200211T042922Z
LAST-MODIFIED:20200211T042922Z
UID:6107-1587144600-1587155400@www.planbmedia.ca
SUMMARY:Portraits of Giving
DESCRIPTION:You’re invited to attend the 11th Annual Portraits of Giving Reception. \nA Legacy of Social Responsibility in York Region celebrating York Region leaders and individuals who give back to their community. \nPortraits of Giving is committed to celebrating York Region leaders who demonstrate the importance of giving back. 2020 marks the 11th anniversary of this initiative with over 100 honourees and organizations who they support. This year’s 14 new honourees will be highlighted throughout York Region wide tours unveiling their portraits by Karen Merk from Merk Photography and stories of giving back written by I C Publishing to inspire York Region to keep giving back. Join us at the opening reception on April 17th to kickoff this year’s tour! \nOpening Reception Location:\nSheraton Parkway Toronto North Hotel & Suites\, 9005 Leslie Street in Richmond Hill \nTickets are $95 each and includes Food\, Wine and Entertainment\nIn the spirit of giving back\, a portion of tickets sales will go to Canadian Feed the Children. \n\n​
URL:https://www.planbmedia.ca/event/portraits-of-giving/
LOCATION:Ontario
ATTACH;FMTTYPE=image/jpeg:https://www.planbmedia.ca/wp-content/uploads/2020/02/1579622625-img-8320shcropcutoutnologoroundtmjpg.jpg
END:VEVENT
BEGIN:VEVENT
DTSTART;TZID=America/Toronto:20200302T090000
DTEND;TZID=America/Toronto:20200302T120000
DTSTAMP:20260420T114308
CREATED:20200212T041535Z
LAST-MODIFIED:20200212T041535Z
UID:6118-1583139600-1583150400@www.planbmedia.ca
SUMMARY:International Women's Day
DESCRIPTION:On behalf of Sunder Singh at the Elspeth Heyworth Centre for Women\, you are cordially invited to attend:  \n The Elspeth Heyworth Centre for Women \nCelebrating International Women’s Day \nMonday\, March 2\, 2020 \n9 a.m. to 12 noon
URL:https://www.planbmedia.ca/event/international-womens-day/
LOCATION:Ontario
END:VEVENT
BEGIN:VEVENT
DTSTART;TZID=America/Toronto:20200227T183000
DTEND;TZID=America/Toronto:20200227T193000
DTSTAMP:20260420T114308
CREATED:20200211T040926Z
LAST-MODIFIED:20200211T040926Z
UID:6101-1582828200-1582831800@www.planbmedia.ca
SUMMARY:Fairport Montessori Academy Open House
DESCRIPTION:You’re invited to attend a special Open House on Thursday\, February 27\, 2020 at Fairport Montessori Academy. \nThe Open House Info Session runs from 6:30pm-7:30pm at 1825 Manning Road\, Whitby\, Ontario. \nSign up today online at www.fairportmontessoriacademy.com
URL:https://www.planbmedia.ca/event/fairport-montessori-academy-open-house/
LOCATION:Ontario
ATTACH;FMTTYPE=image/jpeg:https://www.planbmedia.ca/wp-content/uploads/2020/02/fairport-montessori-june-social-ad-1350x1080-1-819x1024-1.jpg
END:VEVENT
BEGIN:VEVENT
DTSTART;TZID=America/Toronto:20200225T113000
DTEND;TZID=America/Toronto:20200225T143000
DTSTAMP:20260420T114308
CREATED:20200212T042317Z
LAST-MODIFIED:20200212T042317Z
UID:6120-1582630200-1582641000@www.planbmedia.ca
SUMMARY:Annual Mayor's Luncheon
DESCRIPTION:The Vaughan Chamber of Commerce invites you to attend the Annual Mayor’s Luncheon with the honourable Mayor\, Maurizio Bevilacqua at the Terrace Banquet Centre in Vaughan. \nLimited tickets remain. \nContact the chamber 905.761.1366 or register online
URL:https://www.planbmedia.ca/event/annual-mayors-luncheon/
LOCATION:Terrace Banquet Centre\, 1680 Creditstone\, Concord\, ON\, Canada
ATTACH;FMTTYPE=image/png:https://www.planbmedia.ca/wp-content/uploads/2020/02/untitled.png
END:VEVENT
BEGIN:VEVENT
DTSTART;TZID=America/Toronto:20200209T100000
DTEND;TZID=America/Toronto:20200209T153000
DTSTAMP:20260420T114308
CREATED:20200124T052154Z
LAST-MODIFIED:20200203T195103Z
UID:6024-1581242400-1581262200@www.planbmedia.ca
SUMMARY:Vaughan Celebrates Winterfest
DESCRIPTION:The 31st annual award-winning Vaughan Celebrates Winterfest event presented by TD and Event Sponsor Tim Hortons will be held on Sunday\, February 9\, 2020\, Vellore Village Community Centre\, 10am-3:30pm. Enjoy free first-class stage entertainment featuring Pinkfong & Baby Shark\, The Magic of Aaaron Matthews\, Fabulous Feud\, and Kreative In Dance Styles\, indoor & outdoor activities\, meet & greets\, a free pancake breakfast\, face painting\, horse-drawn carriage rides and so much more!
URL:https://www.planbmedia.ca/event/vaughan-celebrates-winterfest/
LOCATION:Vellore Village Community Centre\, 1 Villa Royale Avenue\, Vaughan\, Ontario\, L4H 2Z7\, Canada
CATEGORIES:Community
ATTACH;FMTTYPE=image/jpeg:https://www.planbmedia.ca/wp-content/uploads/2020/01/Winterfest202020_FB_event20page-scaled.jpg
ORGANIZER;CN="City of Vaughan":MAILTO:vaughancelebrates@vaughan.ca.
END:VEVENT
END:VCALENDAR