BEGIN:VCALENDAR
VERSION:2.0
PRODID:-//Plan B Media - ECPv6.15.17.1//NONSGML v1.0//EN
CALSCALE:GREGORIAN
METHOD:PUBLISH
X-ORIGINAL-URL:https://www.planbmedia.ca
X-WR-CALDESC:Events for Plan B Media
REFRESH-INTERVAL;VALUE=DURATION:PT1H
X-Robots-Tag:noindex
X-PUBLISHED-TTL:PT1H
BEGIN:VTIMEZONE
TZID:America/Toronto
BEGIN:DAYLIGHT
TZOFFSETFROM:-0500
TZOFFSETTO:-0400
TZNAME:EDT
DTSTART:20240310T070000
END:DAYLIGHT
BEGIN:STANDARD
TZOFFSETFROM:-0400
TZOFFSETTO:-0500
TZNAME:EST
DTSTART:20241103T060000
END:STANDARD
BEGIN:DAYLIGHT
TZOFFSETFROM:-0500
TZOFFSETTO:-0400
TZNAME:EDT
DTSTART:20250309T070000
END:DAYLIGHT
BEGIN:STANDARD
TZOFFSETFROM:-0400
TZOFFSETTO:-0500
TZNAME:EST
DTSTART:20251102T060000
END:STANDARD
BEGIN:DAYLIGHT
TZOFFSETFROM:-0500
TZOFFSETTO:-0400
TZNAME:EDT
DTSTART:20260308T070000
END:DAYLIGHT
BEGIN:STANDARD
TZOFFSETFROM:-0400
TZOFFSETTO:-0500
TZNAME:EST
DTSTART:20261101T060000
END:STANDARD
BEGIN:DAYLIGHT
TZOFFSETFROM:-0500
TZOFFSETTO:-0400
TZNAME:EDT
DTSTART:20270314T070000
END:DAYLIGHT
BEGIN:STANDARD
TZOFFSETFROM:-0400
TZOFFSETTO:-0500
TZNAME:EST
DTSTART:20271107T060000
END:STANDARD
END:VTIMEZONE
BEGIN:VEVENT
DTSTART;TZID=America/Toronto:20250616T180000
DTEND;TZID=America/Toronto:20250619T233000
DTSTAMP:20260421T015627
CREATED:20250616T211310Z
LAST-MODIFIED:20250616T211310Z
UID:6713-1750096800-1750375800@www.planbmedia.ca
SUMMARY:Vaughan International Film Festival
DESCRIPTION:vff2025 • june 16-19\n\n\nThe wait is over—Festival Week is here and VFF is beyond excited to bring you a week packed with powerful stories\, cinematic talent\, and unforgettable experiences! \nJune 16 – Student ScreeningJune 17 – International Block 1June 18 – International Block 2 \nJune 19 – VFF Awards at the Terrace Event Venue \n🎥 All screenings take place at The Studios at Assembly Park \nThis year’s lineup showcases bold visions and fresh perspectives—from emerging high school storytellers to award-winning filmmakers from around the globe. Whether you’re here to cheer on a student\, discover your new favourite short\, or dress to impress at our red carpet Awards\, VFF25 has something for everyone! \nSee you at this year’s Vaughan International Film Festival presented by QuadReal Property Group! \n  \n 
URL:https://www.planbmedia.ca/event/vaughan-international-film-festival-4/
LOCATION:Ontario
CATEGORIES:Community
END:VEVENT
BEGIN:VEVENT
DTSTART;TZID=America/Toronto:20250625T193000
DTEND;TZID=America/Toronto:20250625T210000
DTSTAMP:20260421T015627
CREATED:20240610T023615Z
LAST-MODIFIED:20250625T141906Z
UID:6641-1750879800-1750885200@www.planbmedia.ca
SUMMARY:Concerts in the Park - Abbamania – Tribute to ABBA
DESCRIPTION:‘Gimme! Gimme! Gimme!’ more music and dancing at tonight’s Concerts in the Park\nJune 25 at Dufferin District Park\n‘The Name of the Game’ is Concerts in the Park! The City of Vaughan’s 31st annual Vaughan Celebrates Concerts in the Park series\, continues in Ward 5 with Abbamania – Tribute to ABBA at Dufferin District Park (1441 Clark Ave. W.) \n \nJoin us for FREE concerts\, presented by TD and event sponsor Tim Hortons\, on select Wednesdays from June 18 to July 30\, weather permitting\, from 7:30 p.m. to 9 p.m \nTONIGHT \n\nWednesday\, June 25 (Ward 5): Abbamania – Tribute to ABBA at Dufferin District Park\, located at 1441 Clark Ave. W.\n\nFind additional details at vaughan.ca/concerts.
URL:https://www.planbmedia.ca/event/concerts-in-the-park-frankie-valli-the-four-seasons-tribute/
LOCATION:Dufferin District Park\, 1441 Clark Avenue West\, Vaughan\, Ontario\, Canada
CATEGORIES:Community
ATTACH;FMTTYPE=image/jpeg:https://www.planbmedia.ca/wp-content/uploads/2024/06/cityofvaughan.jpg
END:VEVENT
BEGIN:VEVENT
DTSTART;TZID=America/Toronto:20250625T193000
DTEND;TZID=America/Toronto:20250730T210000
DTSTAMP:20260421T015627
CREATED:20240610T023302Z
LAST-MODIFIED:20250625T142423Z
UID:6639-1750879800-1753909200@www.planbmedia.ca
SUMMARY:2025 Concerts in the Park - Lineup
DESCRIPTION:The Name of the Game’ is Concerts in the Park! The City of Vaughan’s 31st annual Vaughan Celebrates Concerts in the Park series. \nJoin us for FREE concerts\, presented by TD and event sponsor Tim Hortons\, on select Wednesdays from June 18 to July 30\, weather permitting\, from 7:30 p.m. to 9 p.m. \nThis year’s lineup features professional entertainment for all ages with genres like disco\, pop\, oldies and rock. \nHere is the remaining schedule: \n\nWednesday\, June 25 (Ward 5): Abbamania – Tribute to ABBA at Dufferin District Park\, located at 1441 Clark Ave. W.\nWednesday\, July 9 (Ward 4): Glory Days – Tribute to Bruce Springsteen at Carrville District Park\, located at 266 Valley Vista Dr.\nWednesday\, July 16 (Ward 3): The Blushing Brides – Tribute to The Rolling Stones at Chancellor District Park\, located at 430 Chancellor Dr.\nWednesday\, July 23 (Ward 2): Hotel California – Tribute to the Eagles at Sonoma Heights Community Park\, located at 100 Sunset Ridge\nWednesday\, July 30 (Ward 1): Abraxas – Tribute to Santana at Mackenzie Glen District Park\, located at 220 Cranston Park Ave.\n\n \nAccessible parking (limited)\, pathways and washrooms will be available at each concert location. Parking details for concert locations are available online\, including information about park-and-walk options. Refreshments will be available on-site for purchase. \nFind additional details at vaughan.ca/concerts.
URL:https://www.planbmedia.ca/event/concerts-in-the-park-u2-tribute/
LOCATION:Ontario
CATEGORIES:Community
ATTACH;FMTTYPE=image/jpeg:https://www.planbmedia.ca/wp-content/uploads/2024/06/cityofvaughan.jpg
END:VEVENT
BEGIN:VEVENT
DTSTART;TZID=America/Toronto:20250916T080000
DTEND;TZID=America/Toronto:20250916T140000
DTSTAMP:20260421T015628
CREATED:20240610T034213Z
LAST-MODIFIED:20250826T180055Z
UID:6664-1758009600-1758031200@www.planbmedia.ca
SUMMARY:Vaughan Chamber Business Expo
DESCRIPTION:Vaughan Chamber Business Expo\n\n\n\nSeptember 16\, 2025\n\n\n\nVenu Event Space\n2800 HWY 7\, Vaughan\, ON\n8:00am – 2:00pm \n\n\nThis is a great opportunity to network with businesses in Vaughan and learn about the opportunities to watch for in 2025 and beyond. Whether you choose to purchase a booth or attend and network with us\, this event promises to be a valuable experience for your business. \n  \n  \n 
URL:https://www.planbmedia.ca/event/vaughan-celebrates-canada-day/
LOCATION:Venu Event Space\, 2800 Hwy 7\, Canada
CATEGORIES:Community
ATTACH;FMTTYPE=image/jpeg:https://www.planbmedia.ca/wp-content/uploads/2024/06/2025-Vaughan-Chamber-Business-Expo-1080-x-1350-scaled.jpg
END:VEVENT
BEGIN:VEVENT
DTSTART;TZID=America/Toronto:20260207T150000
DTEND;TZID=America/Toronto:20260208T150000
DTSTAMP:20260421T015628
CREATED:20260128T212512Z
LAST-MODIFIED:20260128T212619Z
UID:6738-1770476400-1770562800@www.planbmedia.ca
SUMMARY:Vaughan's WinterFest
DESCRIPTION:Freeze the dates! Vaughan’s Winterfest celebration returns on Feb. 7 and Feb. 8 \nVaughan Celebrates Winterfest \nJoin the fun for FREE- stage entertainment\, activities\, giveaways and more! \nSaturday\, February 7\, 2026\, 3pm-8pm\, outdoors only \nSunday\, February 8\, 2026\, 10am-3pm\, indoors and outdoors \nVellore Village Community Centre\, 1 Villa Royale Avenue\, Vaughan \n \nDouble the days\, double the magic! The City of Vaughan’s 36th annual award-winning Vaughan Celebrates Winterfest is back by popular demand\, and it’s going to be ‘snow’ much fun!  \nPresented by TD and event sponsor Tim Hortons\, this free event will take place on Saturday\, Feb. 7 from 3 p.m. to 8 p.m. and Sunday\, Feb. 8 from 10 a.m. to 3 p.m. at Vellore Village Community Centre (1 Villa Royale Ave.). Be sure to dress for the weather! \nShuttle buses will be running on Saturday\, Feb. 7 from 2 p.m. to 8 p.m. and Sunday\, Feb. 8 from 9 a.m. to 4 p.m. from Vaughan City Hall (2141 Major Mackenzie Dr.)\, Emily Carr Secondary School (4901 Rutherford Rd.) and the Vaughan Metropolitan Centre Library (200 Apple Mill Rd.). Parking is also available at Fossil Hill Public School (2 Firenza Rd.) and St. Veronica Catholic Elementary School (171 Maria Antonia Rd.). Accessible parking is available at St. Jean de Brebeuf Catholic High School (2 Davos Rd.). \nLearn more by visiting Winterfest | City of Vaughan \n 
URL:https://www.planbmedia.ca/event/vaughans-winterfest/
LOCATION:Vellore Village Community Centre\, 1 Villa Royale Avenue\, Vaughan\, Ontario\, L4H 2Z7\, Canada
CATEGORIES:Community
ATTACH;FMTTYPE=image/jpeg:https://www.planbmedia.ca/wp-content/uploads/2026/01/Vaughan-Winterfest.jpg
END:VEVENT
END:VCALENDAR