BEGIN:VCALENDAR
VERSION:2.0
PRODID:-//Plan B Media - ECPv6.15.17.1//NONSGML v1.0//EN
CALSCALE:GREGORIAN
METHOD:PUBLISH
X-ORIGINAL-URL:https://www.planbmedia.ca
X-WR-CALDESC:Events for Plan B Media
REFRESH-INTERVAL;VALUE=DURATION:PT1H
X-Robots-Tag:noindex
X-PUBLISHED-TTL:PT1H
BEGIN:VTIMEZONE
TZID:America/Toronto
BEGIN:DAYLIGHT
TZOFFSETFROM:-0500
TZOFFSETTO:-0400
TZNAME:EDT
DTSTART:20240310T070000
END:DAYLIGHT
BEGIN:STANDARD
TZOFFSETFROM:-0400
TZOFFSETTO:-0500
TZNAME:EST
DTSTART:20241103T060000
END:STANDARD
BEGIN:DAYLIGHT
TZOFFSETFROM:-0500
TZOFFSETTO:-0400
TZNAME:EDT
DTSTART:20250309T070000
END:DAYLIGHT
BEGIN:STANDARD
TZOFFSETFROM:-0400
TZOFFSETTO:-0500
TZNAME:EST
DTSTART:20251102T060000
END:STANDARD
BEGIN:DAYLIGHT
TZOFFSETFROM:-0500
TZOFFSETTO:-0400
TZNAME:EDT
DTSTART:20260308T070000
END:DAYLIGHT
BEGIN:STANDARD
TZOFFSETFROM:-0400
TZOFFSETTO:-0500
TZNAME:EST
DTSTART:20261101T060000
END:STANDARD
END:VTIMEZONE
BEGIN:VEVENT
DTSTART;TZID=America/Toronto:20250916T080000
DTEND;TZID=America/Toronto:20250916T140000
DTSTAMP:20260420T113839
CREATED:20240610T034213Z
LAST-MODIFIED:20250826T180055Z
UID:6664-1758009600-1758031200@www.planbmedia.ca
SUMMARY:Vaughan Chamber Business Expo
DESCRIPTION:Vaughan Chamber Business Expo\n\n\n\nSeptember 16\, 2025\n\n\n\nVenu Event Space\n2800 HWY 7\, Vaughan\, ON\n8:00am – 2:00pm \n\n\nThis is a great opportunity to network with businesses in Vaughan and learn about the opportunities to watch for in 2025 and beyond. Whether you choose to purchase a booth or attend and network with us\, this event promises to be a valuable experience for your business. \n  \n  \n 
URL:https://www.planbmedia.ca/event/vaughan-celebrates-canada-day/
LOCATION:Venu Event Space\, 2800 Hwy 7\, Canada
CATEGORIES:Community
ATTACH;FMTTYPE=image/jpeg:https://www.planbmedia.ca/wp-content/uploads/2024/06/2025-Vaughan-Chamber-Business-Expo-1080-x-1350-scaled.jpg
END:VEVENT
END:VCALENDAR