BEGIN:VCALENDAR
VERSION:2.0
PRODID:-//Plan B Media - ECPv6.15.17.1//NONSGML v1.0//EN
CALSCALE:GREGORIAN
METHOD:PUBLISH
X-ORIGINAL-URL:https://www.planbmedia.ca
X-WR-CALDESC:Events for Plan B Media
REFRESH-INTERVAL;VALUE=DURATION:PT1H
X-Robots-Tag:noindex
X-PUBLISHED-TTL:PT1H
BEGIN:VTIMEZONE
TZID:America/Toronto
BEGIN:DAYLIGHT
TZOFFSETFROM:-0500
TZOFFSETTO:-0400
TZNAME:EDT
DTSTART:20240310T070000
END:DAYLIGHT
BEGIN:STANDARD
TZOFFSETFROM:-0400
TZOFFSETTO:-0500
TZNAME:EST
DTSTART:20241103T060000
END:STANDARD
BEGIN:DAYLIGHT
TZOFFSETFROM:-0500
TZOFFSETTO:-0400
TZNAME:EDT
DTSTART:20250309T070000
END:DAYLIGHT
BEGIN:STANDARD
TZOFFSETFROM:-0400
TZOFFSETTO:-0500
TZNAME:EST
DTSTART:20251102T060000
END:STANDARD
BEGIN:DAYLIGHT
TZOFFSETFROM:-0500
TZOFFSETTO:-0400
TZNAME:EDT
DTSTART:20260308T070000
END:DAYLIGHT
BEGIN:STANDARD
TZOFFSETFROM:-0400
TZOFFSETTO:-0500
TZNAME:EST
DTSTART:20261101T060000
END:STANDARD
END:VTIMEZONE
BEGIN:VEVENT
DTSTART;TZID=America/Toronto:20250625T193000
DTEND;TZID=America/Toronto:20250730T210000
DTSTAMP:20260420T141857
CREATED:20240610T023302Z
LAST-MODIFIED:20250625T142423Z
UID:6639-1750879800-1753909200@www.planbmedia.ca
SUMMARY:2025 Concerts in the Park - Lineup
DESCRIPTION:The Name of the Game’ is Concerts in the Park! The City of Vaughan’s 31st annual Vaughan Celebrates Concerts in the Park series. \nJoin us for FREE concerts\, presented by TD and event sponsor Tim Hortons\, on select Wednesdays from June 18 to July 30\, weather permitting\, from 7:30 p.m. to 9 p.m. \nThis year’s lineup features professional entertainment for all ages with genres like disco\, pop\, oldies and rock. \nHere is the remaining schedule: \n\nWednesday\, June 25 (Ward 5): Abbamania – Tribute to ABBA at Dufferin District Park\, located at 1441 Clark Ave. W.\nWednesday\, July 9 (Ward 4): Glory Days – Tribute to Bruce Springsteen at Carrville District Park\, located at 266 Valley Vista Dr.\nWednesday\, July 16 (Ward 3): The Blushing Brides – Tribute to The Rolling Stones at Chancellor District Park\, located at 430 Chancellor Dr.\nWednesday\, July 23 (Ward 2): Hotel California – Tribute to the Eagles at Sonoma Heights Community Park\, located at 100 Sunset Ridge\nWednesday\, July 30 (Ward 1): Abraxas – Tribute to Santana at Mackenzie Glen District Park\, located at 220 Cranston Park Ave.\n\n \nAccessible parking (limited)\, pathways and washrooms will be available at each concert location. Parking details for concert locations are available online\, including information about park-and-walk options. Refreshments will be available on-site for purchase. \nFind additional details at vaughan.ca/concerts.
URL:https://www.planbmedia.ca/event/concerts-in-the-park-u2-tribute/
LOCATION:Ontario
CATEGORIES:Community
ATTACH;FMTTYPE=image/jpeg:https://www.planbmedia.ca/wp-content/uploads/2024/06/cityofvaughan.jpg
END:VEVENT
END:VCALENDAR