BEGIN:VCALENDAR
VERSION:2.0
PRODID:-//Plan B Media - ECPv6.15.17.1//NONSGML v1.0//EN
CALSCALE:GREGORIAN
METHOD:PUBLISH
X-ORIGINAL-URL:https://www.planbmedia.ca
X-WR-CALDESC:Events for Plan B Media
REFRESH-INTERVAL;VALUE=DURATION:PT1H
X-Robots-Tag:noindex
X-PUBLISHED-TTL:PT1H
BEGIN:VTIMEZONE
TZID:America/Toronto
BEGIN:DAYLIGHT
TZOFFSETFROM:-0500
TZOFFSETTO:-0400
TZNAME:EDT
DTSTART:20220313T070000
END:DAYLIGHT
BEGIN:STANDARD
TZOFFSETFROM:-0400
TZOFFSETTO:-0500
TZNAME:EST
DTSTART:20221106T060000
END:STANDARD
BEGIN:DAYLIGHT
TZOFFSETFROM:-0500
TZOFFSETTO:-0400
TZNAME:EDT
DTSTART:20230312T070000
END:DAYLIGHT
BEGIN:STANDARD
TZOFFSETFROM:-0400
TZOFFSETTO:-0500
TZNAME:EST
DTSTART:20231105T060000
END:STANDARD
BEGIN:DAYLIGHT
TZOFFSETFROM:-0500
TZOFFSETTO:-0400
TZNAME:EDT
DTSTART:20240310T070000
END:DAYLIGHT
BEGIN:STANDARD
TZOFFSETFROM:-0400
TZOFFSETTO:-0500
TZNAME:EST
DTSTART:20241103T060000
END:STANDARD
END:VTIMEZONE
BEGIN:VEVENT
DTSTART;TZID=America/Toronto:20230802T193000
DTEND;TZID=America/Toronto:20230802T210000
DTSTAMP:20260421T193754
CREATED:20230529T040419Z
LAST-MODIFIED:20230529T040419Z
UID:6576-1691004600-1691010000@www.planbmedia.ca
SUMMARY:Vaughan Celebrates Concerts in the Park
DESCRIPTION:Simply Queen: Tribute to Queen \nWard 4 ConcertAugust 2\, 2023 at 7:30pmNorth Thornhill Community Centre (Outdoor Amphitheatre)300 Pleasant Ridge Avenue\, Vaughan \nCLICK HERE for more details
URL:https://www.planbmedia.ca/event/vaughan-celebrates-concerts-in-the-park-6/
LOCATION:North Thornhill Community Centre\, 300 Pleasant Ridge Avenue\, Thornhill\, Ontario\, Canada
CATEGORIES:Community
ATTACH;FMTTYPE=image/jpeg:https://www.planbmedia.ca/wp-content/uploads/2023/05/2023-Concerts_IG_AUG-2.jpg
END:VEVENT
END:VCALENDAR